BEGIN:VCALENDAR
VERSION:2.0
PRODID:-//Tukios.com/
BEGIN:VEVENT
UID:b6df8faf-5f1b-46a5-b5d7-50bc777d3a1d@www.mcmiklefuneralhome.com
DTSTAMP:20260425T015943Z
DTSTART:20260503T183000Z
DTEND:20260503T193000Z
SUMMARY:Visitation
DESCRIPTION:
URL:https://www.mcmiklefuneralhome.com/obituaries/carolyn-miller
LOCATION:The Sanctuary 1506 North Main Street  Sikeston MO 63801
GEO:36.9010078;-89.6000439
END:VEVENT
END:VCALENDAR