BEGIN:VCALENDAR
VERSION:2.0
PRODID:-//Tukios.com/
BEGIN:VEVENT
UID:d85820bd-9611-4879-b8a8-a871f8aa5b45@www.mcmiklefuneralhome.com
DTSTAMP:20260425T015618Z
DTSTART:20260503T193000Z
DTEND:20260503T203000Z
SUMMARY:Funeral Service
DESCRIPTION:
URL:https://www.mcmiklefuneralhome.com/obituaries/carolyn-miller
LOCATION:The Sanctuary 1506 North Main Street  Sikeston MO 63801
GEO:36.9010078;-89.6000439
END:VEVENT
END:VCALENDAR