BEGIN:VCALENDAR
VERSION:2.0
PRODID:-//Tukios.com/
BEGIN:VEVENT
UID:058ea92d-b762-4036-9baa-9ce99e2d16eb@www.mcmiklefuneralhome.com
DTSTAMP:20260423T181930Z
DTSTART:20260428T153000Z
DTEND:20260428T170000Z
SUMMARY:Visitation
DESCRIPTION:
URL:https://www.mcmiklefuneralhome.com/obituaries/jackie-patterson
LOCATION: 403 N Kingshighway  Sikeston MO 63801
GEO:36.8805976;-89.5903975
END:VEVENT
END:VCALENDAR