BEGIN:VCALENDAR
VERSION:2.0
PRODID:-//Tukios.com/
BEGIN:VEVENT
UID:b34c31c9-f293-4597-ad3d-9fe555b4e718@www.mcmiklefuneralhome.com
DTSTAMP:20260423T182429Z
DTSTART:20260428T190000Z
DTEND:20260428T200000Z
SUMMARY:Interment
DESCRIPTION:
URL:https://www.mcmiklefuneralhome.com/obituaries/jackie-patterson
LOCATION:Missouri State Veterans Cemetery 17357 Stars and Stripes Way  
	Bloomfield MO 63825
GEO:36.8632755;-89.9344554
END:VEVENT
END:VCALENDAR