BEGIN:VCALENDAR
VERSION:2.0
PRODID:-//Tukios.com/
BEGIN:VEVENT
UID:d9844d77-a25c-424a-805c-7ab52cc72d45@www.mcmiklefuneralhome.com
DTSTAMP:20260423T182107Z
DTSTART:20260428T170000Z
DTEND:20260428T180000Z
SUMMARY:Funeral Service
DESCRIPTION:
URL:https://www.mcmiklefuneralhome.com/obituaries/jackie-patterson
LOCATION: 403 N Kingshighway  Sikeston MO 63801
GEO:36.8805976;-89.5903975
END:VEVENT
END:VCALENDAR