BEGIN:VCALENDAR
VERSION:2.0
PRODID:-//Tukios.com/
BEGIN:VEVENT
UID:c508e98b-6e6f-4c77-bfd3-3952c0aba10d@www.mcmiklefuneralhome.com
DTSTAMP:20260420T215938Z
DTSTART:20260508T210000Z
DTEND:20260508T220000Z
SUMMARY:Graveside Service
DESCRIPTION:
URL:https://www.mcmiklefuneralhome.com/obituaries/kathy-thomas
LOCATION:Warren County Memorial Park 0 Lake Warren Drive  Monmouth IL 
	61462
GEO:40.995363;-90.6342989
END:VEVENT
END:VCALENDAR