BEGIN:VCALENDAR
VERSION:2.0
PRODID:-//Tukios.com/
BEGIN:VEVENT
UID:aafd45b2-ccf8-4e74-b3ef-d9e6cda314cb@www.mcmiklefuneralhome.com
DTSTAMP:20260424T201158Z
DTSTART:20260428T210000Z
DTEND:20260429T000000Z
SUMMARY:Visitation
DESCRIPTION:
URL:https://www.mcmiklefuneralhome.com/obituaries/lester-moore
LOCATION: 201 S Center St  Charleston MO 63834
GEO:36.9225384;-89.3511398
END:VEVENT
END:VCALENDAR