BEGIN:VCALENDAR
VERSION:2.0
PRODID:-//Tukios.com/
BEGIN:VEVENT
UID:e0679926-430e-4cd9-87eb-8a94812dc21f@www.mcmiklefuneralhome.com
DTSTAMP:20260424T201344Z
DTSTART:20260429T180000Z
DTEND:20260429T190000Z
SUMMARY:Funeral Service
DESCRIPTION:
URL:https://www.mcmiklefuneralhome.com/obituaries/lester-moore
LOCATION: 201 S Center St  Charleston MO 63834
GEO:36.9225384;-89.3511398
END:VEVENT
END:VCALENDAR