BEGIN:VCALENDAR
VERSION:2.0
PRODID:-//Tukios.com/
BEGIN:VEVENT
UID:fc6e0372-2ce4-42c4-9da1-eb72695fa4c3@www.mcmiklefuneralhome.com
DTSTAMP:20260422T205238Z
DTSTART:20260424T193000Z
DTEND:20260424T210000Z
SUMMARY:Visitation
DESCRIPTION:
URL:https://www.mcmiklefuneralhome.com/obituaries/sharon-sue-kujawa
LOCATION: 403 N Kingshighway  Sikeston MO 63801
GEO:36.8805976;-89.5903975
END:VEVENT
END:VCALENDAR